BEGIN:VCALENDAR
VERSION:2.0
PRODID:-//Takshshila School Indore - ECPv6.15.20//NONSGML v1.0//EN
CALSCALE:GREGORIAN
METHOD:PUBLISH
X-ORIGINAL-URL:https://takshshilaschool.com
X-WR-CALDESC:Events for Takshshila School Indore
REFRESH-INTERVAL;VALUE=DURATION:PT1H
X-Robots-Tag:noindex
X-PUBLISHED-TTL:PT1H
BEGIN:VTIMEZONE
TZID:UTC
BEGIN:STANDARD
TZOFFSETFROM:+0000
TZOFFSETTO:+0000
TZNAME:UTC
DTSTART:20250101T000000
END:STANDARD
END:VTIMEZONE
BEGIN:VEVENT
DTSTART;TZID=UTC:20260601T080000
DTEND;TZID=UTC:20260601T170000
DTSTAMP:20260423T190527
CREATED:20260412T112959Z
LAST-MODIFIED:20260412T150256Z
UID:26759-1780300800-1780333200@takshshilaschool.com
SUMMARY:School Open
DESCRIPTION:
URL:https://takshshilaschool.com/event/school-open/
CATEGORIES:Event
ATTACH;FMTTYPE=image/png:https://takshshilaschool.com/wp-content/uploads/2026/04/26f0e522-db15-4dd1-baec-ba960960bc57.png
END:VEVENT
END:VCALENDAR